BEGIN:VCALENDAR
VERSION:2.0
PRODID:Liechtensteiner Alpenverein
BEGIN:VEVENT
UID:69e61af49ef6f
SUMMARY:Skitourenwoche 13. - 19. März 2016
DESCRIPTION:Anmeldeschluss: 14. Februar 2016  (https://www.alpenverein.li/e
 vents/skitourenwoche-13-19-maerz-2016)
TRANSP:TRANSPARENT
URL:https://www.alpenverein.li/events/skitourenwoche-13-19-maerz-2016
DTSTART;TZID=Europe/Berlin:20160312T230000
DTEND;TZID=Europe/Berlin:20160319T225900
DTSTAMP;TZID=Europe/Berlin:20260420T142420
ORGANIZER;CN=Liechtensteiner Alpenverein:MAILTO:info@alpenverein.li
END:VEVENT
END:VCALENDAR