BEGIN:VCALENDAR
VERSION:2.0
PRODID:Liechtensteiner Alpenverein
BEGIN:VEVENT
UID:69e4d9db5ed2e
SUMMARY:1662. Donnerstagswanderung
DESCRIPTION:Tour mit Thomas Wehrle ins malerische Appenzellerland. (https:/
 /www.alpenverein.li/events/1662-donnerstagswanderung)
TRANSP:TRANSPARENT
URL:https://www.alpenverein.li/events/1662-donnerstagswanderung
DTSTART:20171116
DTSTAMP;TZID=Europe/Berlin:20260419T153419
ORGANIZER;CN=Liechtensteiner Alpenverein:MAILTO:info@alpenverein.li
END:VEVENT
END:VCALENDAR