BEGIN:VCALENDAR
VERSION:2.0
PRODID:Liechtensteiner Alpenverein
BEGIN:VEVENT
UID:69e4d8c31ca70
SUMMARY:1289. Freitagswanderung
DESCRIPTION:Zum Feldkircher Weihnachtsmarkt. (https://www.alpenverein.li/ev
 ents/1289-freitagswanderung)
TRANSP:TRANSPARENT
URL:https://www.alpenverein.li/events/1289-freitagswanderung
DTSTART:20181221
DTSTAMP;TZID=Europe/Berlin:20260419T152939
ORGANIZER;CN=Liechtensteiner Alpenverein:MAILTO:info@alpenverein.li
END:VEVENT
END:VCALENDAR