BEGIN:VCALENDAR
VERSION:2.0
PRODID:Liechtensteiner Alpenverein
BEGIN:VEVENT
UID:69e58c3c67ad9
SUMMARY:AUSGEBUCHT! Bifertenstock 3419m
DESCRIPTION:mit Michael Konzett und Silvio Wille (https://www.alpenverein.l
 i/events/ausgebucht-bifertenstock-3419m)
TRANSP:TRANSPARENT
URL:https://www.alpenverein.li/events/ausgebucht-bifertenstock-3419m
DTSTART;TZID=Europe/Berlin:20200717T230000
DTEND;TZID=Europe/Berlin:20200719T225900
DTSTAMP;TZID=Europe/Berlin:20260420T041524
ORGANIZER;CN=Liechtensteiner Alpenverein:MAILTO:info@alpenverein.li
END:VEVENT
END:VCALENDAR