BEGIN:VCALENDAR
VERSION:2.0
PRODID:Liechtensteiner Alpenverein
BEGIN:VEVENT
UID:69e61aeb35c8b
SUMMARY:Davos bis Madulain - Drei Tages Wanderung
DESCRIPTION:mit Nikolaus Büchel (https://www.alpenverein.li/events/davos-b
 is-madulain-drei-tages-wanderung)
TRANSP:TRANSPARENT
URL:https://www.alpenverein.li/events/davos-bis-madulain-drei-tages-wanderu
 ng
DTSTART;TZID=Europe/Berlin:20220724T235500
DTEND;TZID=Europe/Berlin:20220727T225500
DTSTAMP;TZID=Europe/Berlin:20260420T142411
ORGANIZER;CN=Liechtensteiner Alpenverein:MAILTO:info@alpenverein.li
END:VEVENT
END:VCALENDAR