BEGIN:VCALENDAR
VERSION:2.0
PRODID:Liechtensteiner Alpenverein
BEGIN:VEVENT
UID:69e5e15819e00
SUMMARY:1846. Donnerstagswanderung
DESCRIPTION:Vaduz - Gaflei - Vaduz\nmit Nila Pérez (https://www.alpenvere
 in.li/events/1486-donnerstagswanderung)
TRANSP:TRANSPARENT
URL:https://www.alpenverein.li/events/1486-donnerstagswanderung
DTSTART:20220421
DTSTAMP;TZID=Europe/Berlin:20260420T101832
ORGANIZER;CN=Liechtensteiner Alpenverein:MAILTO:info@alpenverein.li
END:VEVENT
END:VCALENDAR