BEGIN:VCALENDAR
VERSION:2.0
PRODID:Liechtensteiner Alpenverein
BEGIN:VEVENT
UID:69ea99900fad8
SUMMARY:1897. Donnerstagswanderung
DESCRIPTION:Triesenberg-Steg\nmit Nico Gulli (https://www.alpenverein.li/e
 vents/1897-donnerstagswanderung)
TRANSP:TRANSPARENT
URL:https://www.alpenverein.li/events/1897-donnerstagswanderung
DTSTART:20230420
DTSTAMP;TZID=Europe/Berlin:20260424T001336
ORGANIZER;CN=Liechtensteiner Alpenverein:MAILTO:info@alpenverein.li
END:VEVENT
END:VCALENDAR