BEGIN:VCALENDAR
VERSION:2.0
PRODID:Liechtensteiner Alpenverein
BEGIN:VEVENT
UID:69e91b36a5493
SUMMARY:Surettaseen 2266m
DESCRIPTION:Schneeschuhtour mit Peter Frick (https://www.alpenverein.li/eve
 nts/surettaseen-2266m-1)
TRANSP:TRANSPARENT
URL:https://www.alpenverein.li/events/surettaseen-2266m-1
DTSTART:20240127
DTSTAMP;TZID=Europe/Berlin:20260422T210214
ORGANIZER;CN=Liechtensteiner Alpenverein:MAILTO:info@alpenverein.li
END:VEVENT
END:VCALENDAR