BEGIN:VCALENDAR
VERSION:2.0
PRODID:Liechtensteiner Alpenverein
BEGIN:VEVENT
UID:69e8b594322b2
SUMMARY:UIAA Ice Climbing Continental Open - Oulu Finland
TRANSP:TRANSPARENT
URL:https://www.alpenverein.li/events/uiaa-ice-climbing-continental-open-ou
 lu-finland
DTSTART:20240203
DTSTAMP;TZID=Europe/Berlin:20260422T134836
ORGANIZER;CN=Liechtensteiner Alpenverein:MAILTO:info@alpenverein.li
END:VEVENT
END:VCALENDAR