BEGIN:VCALENDAR
VERSION:2.0
PRODID:Liechtensteiner Alpenverein
BEGIN:VEVENT
UID:69e5ec6206bea
SUMMARY:1523. Freitagswanderung
DESCRIPTION:Von Schaanwald nach Nendeln\nmit Leonard Hilty (https://www.al
 penverein.li/events/1523-freitagswanderung)
TRANSP:TRANSPARENT
URL:https://www.alpenverein.li/events/1523-freitagswanderung
DTSTART:20240913
DTSTAMP;TZID=Europe/Berlin:20260420T110538
ORGANIZER;CN=Liechtensteiner Alpenverein:MAILTO:info@alpenverein.li
END:VEVENT
END:VCALENDAR