BEGIN:VCALENDAR
VERSION:2.0
PRODID:Liechtensteiner Alpenverein
BEGIN:VEVENT
UID:69e5ec3a4e730
SUMMARY:Skitour in der Region
DESCRIPTION:mit Rosaria Ackermann (https://www.alpenverein.li/events/skitou
 r-der-region-3)
TRANSP:TRANSPARENT
URL:https://www.alpenverein.li/events/skitour-der-region-3
DTSTART:20250125
DTSTAMP;TZID=Europe/Berlin:20260420T110458
ORGANIZER;CN=Liechtensteiner Alpenverein:MAILTO:info@alpenverein.li
END:VEVENT
END:VCALENDAR