BEGIN:VCALENDAR
VERSION:2.0
PRODID:Liechtensteiner Alpenverein
BEGIN:VEVENT
UID:69e61a1ddc058
SUMMARY:1542. Freitagswanderung
DESCRIPTION:von Schaan nach Buchs\nmit Magdalena Traub (https://www.alpenv
 erein.li/events/1542-freitagswanderung)
TRANSP:TRANSPARENT
URL:https://www.alpenverein.li/events/1542-freitagswanderung
DTSTART:20250214
DTSTAMP;TZID=Europe/Berlin:20260420T142045
ORGANIZER;CN=Liechtensteiner Alpenverein:MAILTO:info@alpenverein.li
END:VEVENT
END:VCALENDAR