BEGIN:VCALENDAR
VERSION:2.0
PRODID:Liechtensteiner Alpenverein
BEGIN:VEVENT
UID:69eaa4d50effc
SUMMARY:1996. Donnerstagswanderung
DESCRIPTION:Küblis - Saas - Küblis\nmit Jürg Schwengeler (https://www.a
 lpenverein.li/events/1996-donnerstagswanderung)
TRANSP:TRANSPARENT
URL:https://www.alpenverein.li/events/1996-donnerstagswanderung
DTSTART:20250403
DTSTAMP;TZID=Europe/Berlin:20260424T010141
ORGANIZER;CN=Liechtensteiner Alpenverein:MAILTO:info@alpenverein.li
END:VEVENT
END:VCALENDAR