BEGIN:VCALENDAR
VERSION:2.0
PRODID:Liechtensteiner Alpenverein
BEGIN:VEVENT
UID:69e5eaf13ec30
SUMMARY:Firobet Klettera
DESCRIPTION:mit Christian Vogt (https://www.alpenverein.li/events/firobet-k
 lettera-1)
TRANSP:TRANSPARENT
URL:https://www.alpenverein.li/events/firobet-klettera-1
DTSTART:20250616
DTSTAMP;TZID=Europe/Berlin:20260420T105929
ORGANIZER;CN=Liechtensteiner Alpenverein:MAILTO:info@alpenverein.li
END:VEVENT
END:VCALENDAR