BEGIN:VCALENDAR
VERSION:2.0
PRODID:Liechtensteiner Alpenverein
BEGIN:VEVENT
UID:69e59d3857833
SUMMARY:1577. Freitagswanderung
DESCRIPTION:von Bendern nach Nendeln\nmit Magdalena Traub (https://www.alp
 enverein.li/events/1577-freitagswanderung)
TRANSP:TRANSPARENT
URL:https://www.alpenverein.li/events/1577-freitagswanderung
DTSTART:20251031
DTSTAMP;TZID=Europe/Berlin:20260420T052752
ORGANIZER;CN=Liechtensteiner Alpenverein:MAILTO:info@alpenverein.li
END:VEVENT
END:VCALENDAR