BEGIN:VCALENDAR
VERSION:2.0
PRODID:Liechtensteiner Alpenverein
BEGIN:VEVENT
UID:69e57f17126f2
SUMMARY:2030. Donnerstagswanderung mit Weihnachtsfeier
DESCRIPTION:Burgruine Schalun/Wildschloss inkl. Weihnachtsfeier\nmit Maria
  Marxer-Widmer (https://www.alpenverein.li/events/2030-donnerstagswanderun
 g-mit-weihnachtsessen)
TRANSP:TRANSPARENT
URL:https://www.alpenverein.li/events/2030-donnerstagswanderung-mit-weihnac
 htsessen
DTSTART:20251127
DTSTAMP;TZID=Europe/Berlin:20260420T031919
ORGANIZER;CN=Liechtensteiner Alpenverein:MAILTO:info@alpenverein.li
END:VEVENT
END:VCALENDAR