BEGIN:VCALENDAR
VERSION:2.0
PRODID:Liechtensteiner Alpenverein
BEGIN:VEVENT
UID:69e86fa744d98
SUMMARY:1851. Dienstagswanderung
DESCRIPTION:von Stoss AR nach Gais\nmit Markus Bartholet (https://www.alpe
 nverein.li/events/1851-donnerstagswanderung-1)
TRANSP:TRANSPARENT
URL:https://www.alpenverein.li/events/1851-donnerstagswanderung-1
DTSTART:20251104
DTSTAMP;TZID=Europe/Berlin:20260422T085015
ORGANIZER;CN=Liechtensteiner Alpenverein:MAILTO:info@alpenverein.li
END:VEVENT
END:VCALENDAR