BEGIN:VCALENDAR
VERSION:2.0
PRODID:Liechtensteiner Alpenverein
BEGIN:VEVENT
UID:69e9850354a80
SUMMARY:*Ausgebucht* - Seniorenwandertage in Naturns/Vinschgau
DESCRIPTION:für Dienstags- und Freitags-Wanderer\nmit Luzia Deplazes (htt
 ps://www.alpenverein.li/events/seniorenwandertag-naturnsvinschgau)
TRANSP:TRANSPARENT
URL:https://www.alpenverein.li/events/seniorenwandertag-naturnsvinschgau
DTSTART;TZID=Europe/Berlin:20260614T230000
DTEND;TZID=Europe/Berlin:20260619T225900
DTSTAMP;TZID=Europe/Berlin:20260423T043339
ORGANIZER;CN=Liechtensteiner Alpenverein:MAILTO:info@alpenverein.li
END:VEVENT
END:VCALENDAR