BEGIN:VCALENDAR
VERSION:2.0
PRODID:Liechtensteiner Alpenverein
BEGIN:VEVENT
UID:69e5fbea07ed2
SUMMARY:Schaaner Aktivwoche mit dem LAV
DESCRIPTION:Schaaner Aktivwoche\nmit Michael Beck (https://www.alpenverein
 .li/events/aktivwoche-schaan)
TRANSP:TRANSPARENT
URL:https://www.alpenverein.li/events/aktivwoche-schaan
DTSTART;TZID=Europe/Berlin:20260412T230000
DTEND;TZID=Europe/Berlin:20260417T225900
DTSTAMP;TZID=Europe/Berlin:20260420T121154
ORGANIZER;CN=Liechtensteiner Alpenverein:MAILTO:info@alpenverein.li
END:VEVENT
END:VCALENDAR