BEGIN:VCALENDAR
VERSION:2.0
PRODID:Liechtensteiner Alpenverein
BEGIN:VEVENT
UID:69e9840013124
SUMMARY:Feierabendtour Fürstensteig/Alpspitz
DESCRIPTION:mit Katharina Link (https://www.alpenverein.li/events/feieraben
 dtour-fuerstensteigalpspitz)
TRANSP:TRANSPARENT
URL:https://www.alpenverein.li/events/feierabendtour-fuerstensteigalpspitz
DTSTART:20260725
DTSTAMP;TZID=Europe/Berlin:20260423T042920
ORGANIZER;CN=Liechtensteiner Alpenverein:MAILTO:info@alpenverein.li
END:VEVENT
END:VCALENDAR