BEGIN:VCALENDAR
VERSION:2.0
PRODID:Liechtensteiner Alpenverein
BEGIN:VEVENT
UID:69e9831061cad
SUMMARY:Bike and Hike Naafkopf
DESCRIPTION:mit Katharina Link (https://www.alpenverein.li/events/bike-and-
 hike-naafkopf)
TRANSP:TRANSPARENT
URL:https://www.alpenverein.li/events/bike-and-hike-naafkopf
DTSTART:20260808
DTSTAMP;TZID=Europe/Berlin:20260423T042520
ORGANIZER;CN=Liechtensteiner Alpenverein:MAILTO:info@alpenverein.li
END:VEVENT
END:VCALENDAR