BEGIN:VCALENDAR
VERSION:2.0
PRODID:Liechtensteiner Alpenverein
BEGIN:VEVENT
UID:69e982f714604
SUMMARY:Garmil 2003 m
DESCRIPTION:Auf dem Garmil liegt uns das Sarganserland und das Rheintal zu 
 Füssen (https://www.alpenverein.li/events/garmil-2003-m)
TRANSP:TRANSPARENT
URL:https://www.alpenverein.li/events/garmil-2003-m
DTSTART:20260712
DTSTAMP;TZID=Europe/Berlin:20260423T042455
ORGANIZER;CN=Liechtensteiner Alpenverein:MAILTO:info@alpenverein.li
END:VEVENT
END:VCALENDAR