BEGIN:VCALENDAR
VERSION:2.0
PRODID:Liechtensteiner Alpenverein
BEGIN:VEVENT
UID:69eba3e8b634c
SUMMARY:2051. Donnerstagswanderung
DESCRIPTION:Heidialp und Alp Fadella mit Alfred Willi (https://www.alpenver
 ein.li/events/2051-donnerstagswanderung)
TRANSP:TRANSPARENT
URL:https://www.alpenverein.li/events/2051-donnerstagswanderung
DTSTART:20260507
DTSTAMP;TZID=Europe/Berlin:20260424T191000
ORGANIZER;CN=Liechtensteiner Alpenverein:MAILTO:info@alpenverein.li
END:VEVENT
END:VCALENDAR