BEGIN:VCALENDAR
VERSION:2.0
PRODID:Liechtensteiner Alpenverein
BEGIN:VEVENT
UID:69eaafe4e8198
SUMMARY:7. Vorstandssitzung 2021
DESCRIPTION:Bitte Inputs via E-Mail oder Briefpost mindestens 5 Tage\nvor 
 der Vorstandssitzung im LAV-Sekretariat einreichen. (https://www.alpenvere
 in.li/events/7-vorstandssitzung-2021)
TRANSP:TRANSPARENT
URL:https://www.alpenverein.li/events/7-vorstandssitzung-2021
DTSTART:20210826
DTSTAMP;TZID=Europe/Berlin:20260424T014852
ORGANIZER;CN=Liechtensteiner Alpenverein:MAILTO:info@alpenverein.li
END:VEVENT
END:VCALENDAR