BEGIN:VCALENDAR
VERSION:2.0
PRODID:Liechtensteiner Alpenverein
BEGIN:VEVENT
UID:69e61eec08493
SUMMARY:1503. Donnerstagswanderung
DESCRIPTION:Wanderung mit Eugen Hasler (https://www.alpenverein.li/events/1
 503-donnerstagswanderung)
TRANSP:TRANSPARENT
URL:https://www.alpenverein.li/events/1503-donnerstagswanderung
DTSTART:20141009
DTSTAMP;TZID=Europe/Berlin:20260420T144116
ORGANIZER;CN=Liechtensteiner Alpenverein:MAILTO:info@alpenverein.li
END:VEVENT
END:VCALENDAR